BEGIN:VCALENDAR
VERSION:2.0
PRODID:-//ChamberMaster//Event Calendar 2.0//EN
METHOD:PUBLISH
X-PUBLISHED-TTL:P3D
REFRESH-INTERVAL:P3D
CALSCALE:GREGORIAN
BEGIN:VEVENT
DTSTART:20181004T140000Z
DTEND:20181008T220000Z
X-MICROSOFT-CDO-ALLDAYEVENT:FALSE
SUMMARY:United States Sailboat Show
DESCRIPTION:Dubbed the 'greatest sailboat show' by consumers and exhibitors alike\, the united States Sailboat Show is the granddaddy of all sailboat shows. featuring Vacation Basin\, the VIP Red Carpet Lounge\, Take the Wheel and First Sail Workshops\, this iconic and prestigious show is the only sailboat show in the world in which nearly every major sailboat manufacturer is represented. The 49th United States Sailboat Show will run October 4-8\, 2018.
X-ALT-DESC;FMTTYPE=text/html:Dubbed the &#39\;greatest sailboat show&#39\; by consumers and exhibitors alike\, the united States Sailboat Show is the granddaddy of all sailboat shows. featuring Vacation Basin\, the VIP Red Carpet Lounge\, Take the Wheel and First Sail Workshops\, this iconic and prestigious show is the only sailboat show in the world in which nearly every major sailboat manufacturer is represented. The 49th United States Sailboat Show will run October 4-8\, 2018.
LOCATION:Annapolis City Dock & Harbor 1 Dock Street Annapolis MD 21401
UID:e.2745.1276
SEQUENCE:3
DTSTAMP:20260421T234151Z
URL:https://members.annearundelchamber.org/events/details/united-states-sailboat-show-1276
END:VEVENT

END:VCALENDAR
