BEGIN:VCALENDAR
VERSION:2.0
PRODID:-//ChamberMaster//Event Calendar 2.0//EN
METHOD:PUBLISH
X-PUBLISHED-TTL:P3D
REFRESH-INTERVAL:P3D
CALSCALE:GREGORIAN
BEGIN:VEVENT
DTSTART:20190403T120000Z
DTEND:20190403T133000Z
X-MICROSOFT-CDO-ALLDAYEVENT:FALSE
SUMMARY:Social Media Training April
DESCRIPTION:Hey #facebook! Join us for our free strategy session "The Entrepreneur's Guide to Facebook: A Mini Course Teaching You How to Kick A** on Facebook"!\n\n\n\nThis course helps you understand the proper way to engage people using the social media platform: Facebook. Marketing consultant Martiel Beatty from MB Branding Solutions\, LLC will teach about when to post\, how to schedule posts\, what makes a great post (and what does not)\, boosting (when it's a good idea)\, proper use of groups\, pages\, and knowing what to share and maybe most importantly\, when the right time is to share. You'll come away with an understanding of how to use Facebook as a tool to market your business without being salesy or pushy.
X-ALT-DESC;FMTTYPE=text/html:<p style="margin: 0px\;"><span style="margin: 0px\; color: rgb(29\, 33\, 41)\; font-family: Arial\, sans-serif\; font-size: 10.5pt\;">Hey&nbsp\;</span><a href="https://www.facebook.com/hashtag/facebook" style="white-space: pre-wrap\;" target="_blank"><span style="margin: 0px\; color: rgb(54\, 88\, 153)\; font-family: Arial\, sans-serif\; font-size: 10.5pt\; text-decoration-line: none\;">#facebook</span></a><span style="margin: 0px\; color: rgb(29\, 33\, 41)\; font-family: Arial\, sans-serif\; font-size: 10.5pt\;">! Join us for our free strategy session &quot\;The Entrepreneur&#39\;s Guide to Facebook: A Mini Course Teaching You How to Kick A** on Facebook&quot\;!<br style="white-space: pre-wrap\;" />\n<br style="white-space: pre-wrap\;" />\nThis course helps you understand the proper way to engage people using the social media platform: Facebook. Marketing consultant Martiel Beatty from MB Branding Solutions\, LLC will teach about when to post\, how to schedule posts\, what makes a great post (and what does not)\, boosting (when it&rsquo\;s a good idea)\, proper use of groups\, pages\, and knowing what to share and maybe most importantly\, when the right time is to share. You&rsquo\;ll come away with an understanding of how to use Facebook as a tool to market your business without being salesy or pushy.</span></p>\n\n<p style="margin: 0px\;"><font color="#000000" face="Calibri" size="3">&nbsp\;</font></p>\n
LOCATION:AAACCC Conference room 134 Holiday Ct\, Suite 314 Annapolis\, MD 21401
UID:e.2745.1345
SEQUENCE:3
DTSTAMP:20260421T151119Z
URL:https://members.annearundelchamber.org/events/details/social-media-training-april-1345
END:VEVENT

END:VCALENDAR
