BEGIN:VCALENDAR
VERSION:2.0
PRODID:-//ChamberMaster//Event Calendar 2.0//EN
METHOD:PUBLISH
X-PUBLISHED-TTL:P3D
REFRESH-INTERVAL:P3D
CALSCALE:GREGORIAN
BEGIN:VEVENT
DTSTART:20200216T000000Z
DTEND:20200216T020000Z
X-MICROSOFT-CDO-ALLDAYEVENT:FALSE
SUMMARY:PARENTS NIGHT OUT
DESCRIPTION:Drop Them Off. Go Have Fun. Just Remember To Pick Them Up.\n\nYou deserve a night on the town. Meanwhile\, your kids want to play and have fun. That's why we offer Parent's Night Out - a win-win evening for families. Drop off your kids at Code Ninjas\, where they'll play games\, assemble puzzles\, build robotics\, and more. Once you've had a chance to unwind\, swing by to pick them up (please) and hear about all the fun they've had!\n\nAges: 7-14\n\nLocation: Code Ninjas Edgewater\n\nhttps://www.codeninjas.com/parents-night-out/md-edgewater?
X-ALT-DESC;FMTTYPE=text/html:<h3 style="color:inherit\; font-style:normal\; text-align:left">Drop Them Off. Go Have Fun. Just Remember To Pick Them Up.</h3>\n\n<p style="margin-left:0px\; margin-right:0px\; text-align:left">You deserve a night on the town. Meanwhile\, your kids want to play and have fun. That&#39\;s why we offer Parent&#39\;s Night Out - a win-win evening for families. Drop off your kids at Code Ninjas\, where they&#39\;ll play games\, assemble puzzles\, build robotics\, and more. Once you&#39\;ve had a chance to unwind\, swing by to pick them up (please) and hear about all the fun they&#39\;ve had!</p>\n\n<div style="text-align:left">Ages: 7-14</div>\n\n<div style="text-align:left">Location: Code Ninjas Edgewater<br />\nhttps://www.codeninjas.com/parents-night-out/md-edgewater?</div>\n
LOCATION:CODE NINJAS 145 MITCHELLS CHANCE ROAD EDGEWATER\, MD 21037
UID:e.2745.2648
SEQUENCE:3
DTSTAMP:20260423T211110Z
URL:https://members.annearundelchamber.org/events/details/parents-night-out-01-25-2020-2648
END:VEVENT

END:VCALENDAR
