BEGIN:VCALENDAR
VERSION:2.0
PRODID:-//ChamberMaster//Event Calendar 2.0//EN
METHOD:PUBLISH
X-PUBLISHED-TTL:P3D
REFRESH-INTERVAL:P3D
CALSCALE:GREGORIAN
BEGIN:VEVENT
DTSTART:20190417T210000Z
DTEND:20190417T230000Z
X-MICROSOFT-CDO-ALLDAYEVENT:FALSE
SUMMARY:Newk's Mixer
DESCRIPTION:Networking\, Relationship building\, Free Food\, Cash Wine & Beer\n\n\n\nDrawing at 6:30pm
X-ALT-DESC;FMTTYPE=text/html:Networking\, Relationship building\, Free Food\, Cash Wine &amp\; Beer<br />\n<br />\nDrawing at 6:30pm
LOCATION:Newk's Eatery 2077 Somerville Rd\, suite 150 Annapolis\, MD 21401 HEATED PATIO
UID:e.2745.1348
SEQUENCE:3
DTSTAMP:20260421T151656Z
URL:https://members.annearundelchamber.org/events/details/newk-s-mixer-1348
END:VEVENT

END:VCALENDAR
