BEGIN:VCALENDAR
VERSION:2.0
PRODID:-//ChamberMaster//Event Calendar 2.0//EN
METHOD:PUBLISH
X-PUBLISHED-TTL:P3D
REFRESH-INTERVAL:P3D
CALSCALE:GREGORIAN
BEGIN:VEVENT
DTSTART:20230101T030000Z
DTEND:20230101T060000Z
X-MICROSOFT-CDO-ALLDAYEVENT:FALSE
SUMMARY:New Year's Eve Annapolis Fireworks Cruise
DESCRIPTION:Make your New Year's Eve memorable with a special celebration on the water. In Annapolis\, step aboard a Watermark's flagship yacht\, Catherine Marie\, for a New Year's Eve Annapolis Fireworks Cruise. Enjoy dancing\, desserts\, a DJ\, a complimentary glass of bubbly\, and fireworks. This event is 21 and over.
X-ALT-DESC;FMTTYPE=text/html:<span style="background-color:rgb(255\, 255\, 255)\; color:rgb(2\, 15\, 20)\; font-family:roboto\,sans-serif\; font-size:18px">Make your New Year&#39\;s Eve memorable with a special celebration on the water. In Annapolis\, step aboard a Watermark&rsquo\;s flagship yacht\, Catherine Marie\, for a New Year&rsquo\;s Eve Annapolis Fireworks Cruise. Enjoy dancing\, desserts\, a DJ\, a complimentary glass of bubbly\, and fireworks. This event is 21 and over.</span>
LOCATION:Annapolis City Dock
UID:e.2745.4016
SEQUENCE:3
DTSTAMP:20260421T232922Z
URL:https://members.annearundelchamber.org/events/details/new-year-s-eve-annapolis-fireworks-cruise-4016
END:VEVENT

END:VCALENDAR
