BEGIN:VCALENDAR
VERSION:2.0
PRODID:-//ChamberMaster//Event Calendar 2.0//EN
METHOD:PUBLISH
X-PUBLISHED-TTL:P3D
REFRESH-INTERVAL:P3D
CALSCALE:GREGORIAN
BEGIN:VEVENT
DTSTART;VALUE=DATE:20161020
DTEND;VALUE=DATE:20161021
TRANSP:TRANSPARENT
X-MICROSOFT-CDO-ALLDAYEVENT:TRUE
SUMMARY:Multi-Chamber Networking Breakfast
DESCRIPTION:Join us for a breakfast buffet and make valuable connections while promoting your business to members of other Chambers and business organizations. Program includes Speed-networking with 90-second small group introductions and four table rotations. Door prizes also included.\n\n\n\nClick here to register.\n\n\n\nParticipating chambers and business organizations include: the Annapolis and Anne Arundel County Chamber\, Annapolis Business Association\, Baltimore Washington Corridor Chamber\, Entrepreneurs Exchange\, Greater Bowie Chamber\, Greater Crofton Chamber\, Greater Severna Park & Arnold Chamber\, Maryland Hispanic Chamber\, Northern Anne Arundel County Chamber\, Southern Anne Arundel County Chamber\, and the Howard County Chamber
X-ALT-DESC;FMTTYPE=text/html:<p><span style="color: rgb(0\, 0\, 0)\; font-family: Tahoma\, Geneva\, sans-serif\;">Join us for a breakfast buffet and make valuable connections while promoting your business to mem</span><span style="color: rgb(0\, 0\, 0)\; font-family: Tahoma\, Geneva\, sans-serif\; line-height: 1.45\;" title="">bers of other Chambers and business organizations. Program includes Speed-networking with 90-second small group introductions and four table rotations. Door prizes also included.</span><br />\n<br />\n<a href="http://events.r20.constantcontact.com/register/event?llr=6rautgcab&amp\;oeidk=a07ed9je06ya0e13b3e&amp\;condition=SO_OVERRIDE">Click here</a> to register.<br />\n<br />\n<span style="color: rgb(0\, 0\, 0)\; font-family: Tahoma\, Geneva\, sans-serif\;">Participating chambers and business organizations include: the Annapolis and Anne Arundel County Chamber\, Annapolis Business Association\, Baltimore Washington Corridor Chamber\, Entrepreneurs Exchange\, Greater Bowie Chamber\, Greater Crofton Chamber\, Greater Severna Park &amp\; Arnold Chamber\, Maryland Hispanic Chamber\, Northern Anne Arundel County Chamber\, Southern Anne Arundel County Chamber\, and the Howard County Chamber</span></p>\n
LOCATION:Crofton Country Club 1691 Crofton Parkway\, Crofton\, MD 21114
UID:e.2745.5
SEQUENCE:3
DTSTAMP:20260424T220117Z
URL:https://members.annearundelchamber.org/events/details/multi-chamber-networking-breakfast-5
END:VEVENT

END:VCALENDAR
