BEGIN:VCALENDAR
VERSION:2.0
PRODID:-//ChamberMaster//Event Calendar 2.0//EN
METHOD:PUBLISH
X-PUBLISHED-TTL:P3D
REFRESH-INTERVAL:P3D
CALSCALE:GREGORIAN
BEGIN:VEVENT
DTSTART:20171026T113000Z
DTEND:20171026T133000Z
X-MICROSOFT-CDO-ALLDAYEVENT:FALSE
SUMMARY:Multi-Chamber Networking Breakfast
DESCRIPTION:Please join us as we join the Severna Park & Arnold\, Crofton\, Central Maryland\, Bowie\, South County and North County Chambers for a Networking Breakfast. Breakfast will be served and mingling will be on the agenda.
X-ALT-DESC;FMTTYPE=text/html:Please join us as we join the Severna Park &amp\; Arnold\, Crofton\, Central Maryland\, Bowie\, South County and North County Chambers for a Networking Breakfast. Breakfast will be served and mingling will be on the agenda.&nbsp\;
LOCATION:Crofton Country Club 1691 Crofton Parkway Crofton\, MD 21114
UID:e.2745.224
SEQUENCE:3
DTSTAMP:20260422T183033Z
URL:https://members.annearundelchamber.org/events/details/multi-chamber-networking-breakfast-224
END:VEVENT

END:VCALENDAR
