BEGIN:VCALENDAR
VERSION:2.0
PRODID:-//ChamberMaster//Event Calendar 2.0//EN
METHOD:PUBLISH
X-PUBLISHED-TTL:P3D
REFRESH-INTERVAL:P3D
CALSCALE:GREGORIAN
BEGIN:VEVENT
DTSTART:20170816T113000Z
DTEND:20170816T133000Z
X-MICROSOFT-CDO-ALLDAYEVENT:FALSE
SUMMARY:Multi-Chamber Networking Breakfast
DESCRIPTION:Join us for the Largest Networking Breakfast of the Year at the Maritime Conference Center in Linthicum\, Maryland. Over 10 business organizations will be participating. Special guest speaker is Kelly Schulz\, Secretary of Labor\, Licensing & Regulation. This event has sold-out at 250 attendees in the past\, so register early!
X-ALT-DESC;FMTTYPE=text/html:<span style="color: rgb(91\, 91\, 91)\; font-family: &quot\;Helvetica Neue&quot\;\, Arial\, Helvetica\, sans-serif\; font-size: 13.984px\;">Join us for the Largest Networking Breakfast of the Year at the Maritime Conference Center in Linthicum\, Maryland. Over 10 business organizations will be participating. Special guest speaker is Kelly Schulz\, Secretary of Labor\, Licensing &amp\; Regulation. This event has sold-out at 250 attendees in the past\, so register early!</span>
LOCATION:Maritime Conference Center 692 Maritime Blvd Linthicum\, MD 21090
UID:e.2745.215
SEQUENCE:3
DTSTAMP:20260422T200119Z
URL:https://members.annearundelchamber.org/events/details/multi-chamber-networking-breakfast-215
END:VEVENT

END:VCALENDAR
