BEGIN:VCALENDAR
VERSION:2.0
PRODID:-//ChamberMaster//Event Calendar 2.0//EN
METHOD:PUBLISH
X-PUBLISHED-TTL:P3D
REFRESH-INTERVAL:P3D
CALSCALE:GREGORIAN
BEGIN:VEVENT
DTSTART:20181025T113000Z
DTEND:20181025T133000Z
X-MICROSOFT-CDO-ALLDAYEVENT:FALSE
SUMMARY:Multi-Chamber Breakfast
DESCRIPTION:Save the Date! \n\nRegistration and information to come.
X-ALT-DESC;FMTTYPE=text/html:Save the Date!&nbsp\;<br />\nRegistration and information to come.&nbsp\;
LOCATION:
UID:e.2745.242
SEQUENCE:3
DTSTAMP:20260421T233516Z
URL:https://members.annearundelchamber.org/events/details/multi-chamber-breakfast-242
END:VEVENT

END:VCALENDAR
