BEGIN:VCALENDAR
VERSION:2.0
PRODID:-//ChamberMaster//Event Calendar 2.0//EN
METHOD:PUBLISH
X-PUBLISHED-TTL:P3D
REFRESH-INTERVAL:P3D
CALSCALE:GREGORIAN
BEGIN:VEVENT
DTSTART:20180412T113000Z
DTEND:20180412T133000Z
X-MICROSOFT-CDO-ALLDAYEVENT:FALSE
SUMMARY:Multi-Chamber Breakfast
DESCRIPTION:Join us along with Northern Anne Arundel County\, Southern Anne Arundel County\, Central Maryland\, Greater Crofton\, Greater Severna Park & Arnold Chambers of Commerce for Networking Breakfast. \n\nBe sure to bring plenty of business cards and any marketing material you would like to put out. Breakfast will be served and there will be Door Prizes.
X-ALT-DESC;FMTTYPE=text/html:Join us along with Northern Anne Arundel County\, Southern Anne Arundel County\, Central Maryland\, Greater Crofton\, Greater Severna Park &amp\; Arnold Chambers of Commerce for Networking Breakfast.&nbsp\;<br />\nBe sure to bring plenty of business cards and any marketing material you would like to put out. Breakfast will be served and there will be Door Prizes.
LOCATION:Hella's Restaurant 8498 Veteran's Highway Millersville\, MD 21108
UID:e.2745.236
SEQUENCE:3
DTSTAMP:20260422T081937Z
URL:https://members.annearundelchamber.org/events/details/multi-chamber-breakfast-236
END:VEVENT

END:VCALENDAR
