BEGIN:VCALENDAR
VERSION:2.0
PRODID:-//ChamberMaster//Event Calendar 2.0//EN
METHOD:PUBLISH
X-PUBLISHED-TTL:P3D
REFRESH-INTERVAL:P3D
CALSCALE:GREGORIAN
BEGIN:VEVENT
DTSTART:20220508T143000Z
DTEND:20220508T163000Z
X-MICROSOFT-CDO-ALLDAYEVENT:FALSE
SUMMARY:Mother's Day Cruise in Annapolis
DESCRIPTION:Treat the moms in your life to a lovely brunch cruise this Mother's Day. Our 95-foot luxury yacht\, Catherine Marie\, will take you out on the water for a leisurely 2-hour cruise with live music by Guava Jelly. Included in the ticket is a buffet omelette station by The Original Omelette Man and one complimentary Momosa for moms. To ensure you are seated with people you know\, we will provide assigned seating. Please specify your group size in the check-out notes and whether you will be joining another party.
X-ALT-DESC;FMTTYPE=text/html:&nbsp\;&nbsp\;&nbsp\;&nbsp\;<span style="background-color:rgb(255\, 255\, 255)\; color:rgb(2\, 15\, 20)\; font-family:roboto\,sans-serif\; font-size:18px">Treat the moms in your life to a lovely brunch cruise this Mother&#39\;s Day. Our 95-foot luxury yacht\, Catherine Marie\, will take you out on the water for a leisurely 2-hour cruise with live music by Guava Jelly. Included in the ticket is a buffet omelette station by The Original Omelette Man and one complimentary Momosa for moms. To ensure you are seated with people you know\, we will provide assigned seating. Please specify your group size in the check-out notes and whether you will be joining another party.</span>
LOCATION:Annapolis City Dock One Dock St Annapolis\, MD 21401
UID:e.2745.3906
SEQUENCE:3
DTSTAMP:20260422T103820Z
URL:https://members.annearundelchamber.org/events/details/mother-s-day-cruise-in-annapolis-3906
END:VEVENT

END:VCALENDAR
