BEGIN:VCALENDAR
VERSION:2.0
PRODID:-//ChamberMaster//Event Calendar 2.0//EN
METHOD:PUBLISH
X-PUBLISHED-TTL:P3D
REFRESH-INTERVAL:P3D
CALSCALE:GREGORIAN
BEGIN:VEVENT
DTSTART:20190228T223000Z
DTEND:20190301T000000Z
X-MICROSOFT-CDO-ALLDAYEVENT:FALSE
SUMMARY:Mixer Overlooking the Dock
DESCRIPTION:Come and meet fellow members and enjoy wonderful food and beer and/or drinks at Mission BBQ Downtown Annapolis (private room upstairs).  Door Prize will be given away at 6:30pm
X-ALT-DESC;FMTTYPE=text/html:Come and meet fellow members and enjoy wonderful food and beer and/or drinks at Mission BBQ Downtown Annapolis (private room upstairs).&nbsp\; Door Prize will be given away at 6:30pm
LOCATION:Mission BBQ Downtown Annapolis overlooking the Dock - Private upstairs room
UID:e.2745.1328
SEQUENCE:3
DTSTAMP:20260421T174449Z
URL:https://members.annearundelchamber.org/events/details/mixer-overlooking-the-dock-1328
END:VEVENT

END:VCALENDAR
