BEGIN:VCALENDAR
VERSION:2.0
PRODID:-//ChamberMaster//Event Calendar 2.0//EN
METHOD:PUBLISH
X-PUBLISHED-TTL:P3D
REFRESH-INTERVAL:P3D
CALSCALE:GREGORIAN
BEGIN:VEVENT
DTSTART:20190502T213000Z
DTEND:20190502T233000Z
X-MICROSOFT-CDO-ALLDAYEVENT:FALSE
SUMMARY:Mixer at Glory Days
DESCRIPTION:Networking\, Great food\, Cash bar with specials for Cinco de Mayo - come see our members/ambassadors have a sombrero dancing contest!! A must see!!
X-ALT-DESC;FMTTYPE=text/html:Networking\, Great food\, Cash bar with specials for Cinco de Mayo - come see our members/ambassadors have a sombrero dancing contest!! A must see!!
LOCATION:Glory Days Edgewater
UID:e.2745.1342
SEQUENCE:3
DTSTAMP:20260421T143834Z
URL:https://members.annearundelchamber.org/events/details/mixer-at-glory-days-1342
END:VEVENT

END:VCALENDAR
