BEGIN:VCALENDAR
VERSION:2.0
PRODID:-//ChamberMaster//Event Calendar 2.0//EN
METHOD:PUBLISH
X-PUBLISHED-TTL:P3D
REFRESH-INTERVAL:P3D
CALSCALE:GREGORIAN
BEGIN:VEVENT
DTSTART:20211019T130000Z
DTEND:20211019T143000Z
X-MICROSOFT-CDO-ALLDAYEVENT:FALSE
SUMMARY:Maximizing the Value of Your Business at Sale Time - Virtual
DESCRIPTION:Are you a business owner without an exit strategy? Or is your exit strategy to sell when the time is right? Join our free virtual seminar next week to learn about how you can maximize the value of your business prior to selling it.\n\n\n\n\n\nRegister At: https://bit.ly/3kL1uyV\n\n\n\n\n\nSeminar Details:\n\n\n\nLocation: Zoom. Will be provided after signup.\n\n\n\nDate/Time: October 19th at 9 am\n\n\n\nCost: Free
X-ALT-DESC;FMTTYPE=text/html:<div>\n<div><span style="font-family:inherit">Are you a business owner without an exit strategy? Or is your exit strategy to sell when the time is right? Join our free virtual seminar next week to learn about how you can maximize the value of your business prior to selling it.</span></div>\n</div>\n\n<div>\n<div><br />\n<span style="font-family:inherit">Register At: </span><a href="https://bit.ly/3kL1uyV"><span style="color:var(--blue-link)\; font-family:inherit">https://bit.ly/3kL1uyV</span></a></div>\n</div>\n\n<div>\n<div><br />\n<strong>Seminar Details:</strong></div>\n</div>\n\n<div>\n<div><span style="font-family:inherit">Location: Zoom. Will be provided after signup.</span></div>\n</div>\n\n<div>\n<div><span style="font-family:inherit">Date/Time: October 19th at 9 am</span></div>\n</div>\n\n<div>\n<div><span style="font-family:inherit">Cost: Free</span></div>\n</div>\n
LOCATION:Zoom/Virtual
UID:e.2745.3840
SEQUENCE:3
DTSTAMP:20260422T183459Z
URL:https://members.annearundelchamber.org/events/details/maximizing-the-value-of-your-business-at-sale-time-virtual-3840
END:VEVENT

END:VCALENDAR
