BEGIN:VCALENDAR
VERSION:2.0
PRODID:-//ChamberMaster//Event Calendar 2.0//EN
METHOD:PUBLISH
X-PUBLISHED-TTL:P3D
REFRESH-INTERVAL:P3D
CALSCALE:GREGORIAN
BEGIN:VEVENT
DTSTART:20201106T000000Z
DTEND:20201106T011500Z
X-MICROSOFT-CDO-ALLDAYEVENT:FALSE
SUMMARY:LUNAFEST hosted by Girls on the Run of the Greater Chesapeake
DESCRIPTION:LUNAFEST  is a traveling film festival that features short films by\, for and about women. Since 2000\, LUNAFEST has been flipping the script\, creating opportunities for women in film. The talented women directors bring stories from all over the world. Sharing new perspectives\, lighting a fire in the industry. Please join us for our first\, virtual LUNAFEST to benefit Girls on the Run of the Greater Chesapeake and enable more girls to participate in the positive\, youth development program. Tickets are $15 each. You can choose to watch with us virtually\, starting at 7:00 pm\, or whenever is best for you that day (we'll send the link to view the films that morning). Thank you for empowering girls!
X-ALT-DESC;FMTTYPE=text/html:LUNAFEST&reg\; is a traveling film festival that features short films by\, for and about women. Since 2000\, LUNAFEST has been flipping the script\, creating opportunities for women in film. The talented women directors bring stories from all over the world. Sharing new perspectives\, lighting a fire in the industry. Please join us for our first\, virtual LUNAFEST to benefit Girls on the Run of the Greater Chesapeake and enable more girls to participate in the positive\, youth development program. Tickets are $15 each. You can choose to watch with us virtually\, starting at 7:00 pm\, or whenever is best for you that day (we&#39\;ll send the link to view the films that morning). Thank you for empowering girls!
LOCATION:Virtually
UID:e.2745.3490
SEQUENCE:3
DTSTAMP:20260423T103009Z
URL:https://members.annearundelchamber.org/events/details/lunafest-hosted-by-girls-on-the-run-of-the-greater-chesapeake-3490
END:VEVENT

END:VCALENDAR
