BEGIN:VCALENDAR
VERSION:2.0
PRODID:-//ChamberMaster//Event Calendar 2.0//EN
METHOD:PUBLISH
X-PUBLISHED-TTL:P3D
REFRESH-INTERVAL:P3D
CALSCALE:GREGORIAN
BEGIN:VEVENT
DTSTART:20180417T210000Z
DTEND:20180417T223000Z
X-MICROSOFT-CDO-ALLDAYEVENT:FALSE
SUMMARY:LinkedIn Part 2
DESCRIPTION:LinkedIn Part 2 - Who they Know and Everyone Else\n\nNow that you have increased your relationship with your first connections\, it's time to focus on second connections. These are the people your network knows\, but you may not know... yet. We'll look at search capabilities\, language around introductions and understanding how to extend your network beyond your current connections. We'll look at some of the more advanced LinkedIn strategies to include developing your "Top 50" profile.
X-ALT-DESC;FMTTYPE=text/html:LinkedIn Part 2 - Who they Know and Everyone Else<br />\nNow that you have increased your relationship with your first connections\, it&#39\;s time to focus on second connections. These are the people your network knows\, but you may not know... yet. We&#39\;ll look at search capabilities\, language around introductions and understanding how to extend your network beyond your current connections. We&#39\;ll look at some of the more advanced LinkedIn strategies to include developing your &quot\;Top 50&quot\; profile.&nbsp\;
LOCATION:AA County Chamber of Commerce Conference Room 134 Holiday Court\, Suite 314 Annapolis\, MD\, 21401
UID:e.2745.1285
SEQUENCE:3
DTSTAMP:20260422T084411Z
URL:https://members.annearundelchamber.org/events/details/linkedin-part-2-1285
END:VEVENT

END:VCALENDAR
