BEGIN:VCALENDAR
VERSION:2.0
PRODID:-//ChamberMaster//Event Calendar 2.0//EN
METHOD:PUBLISH
X-PUBLISHED-TTL:P3D
REFRESH-INTERVAL:P3D
CALSCALE:GREGORIAN
BEGIN:VEVENT
DTSTART:20180220T220000Z
DTEND:20180220T233000Z
X-MICROSOFT-CDO-ALLDAYEVENT:FALSE
SUMMARY:LinkedIn Part 2
DESCRIPTION:LinkedIn Part 2\n\nWho they know" and "Everyone Else"\n\n \n\nNow that you have increased your relationship with your first connections\, it's time to focus on second connections.  These are the people your network knows\, but you may not know yet.  We'll look at search capabilities\, language around introductions\, and understanding how to extend your network beyond your current connections.  We'll also talk about target marketing\, centers of influence\, and ranking opportunities.  This workshop covers all the people that exist outside your current network\, to include connecting with people all over the world.  We'll also dive deeper into target marketing by looking at how to use groups to connect with more of the people you need to know.  Finally\, we'll look at some of the more advanced LinkedIn strategies\, to include developing your "Top 50" profile.
X-ALT-DESC;FMTTYPE=text/html:LinkedIn Part 2<br />\nWho they know&rdquo\; and &ldquo\;Everyone Else&rdquo\;<br />\n&nbsp\;<br />\nNow that you have increased your relationship with your first connections\, it&rsquo\;s time to focus on second connections.&nbsp\; These are the people your network knows\, but you may not know&hellip\;yet.&nbsp\; We&rsquo\;ll look at search capabilities\, language around introductions\, and understanding how to extend your network beyond your current connections.&nbsp\; We&rsquo\;ll also talk about target marketing\, centers of influence\, and ranking opportunities.&nbsp\; This workshop covers all the people that exist outside your current network\, to include connecting with people all over the world.&nbsp\; We&rsquo\;ll also dive deeper into target marketing by looking at how to use groups to connect with more of the people you need to know.&nbsp\; Finally\, we&rsquo\;ll look at some of the more advanced LinkedIn strategies\, to include developing your &ldquo\;Top 50&rdquo\; profile.
LOCATION:AA County Chamber of Commerce Conference Room 134 Holiday Ct\, Suite 314 Annapolis\, MD 21401
UID:e.2745.1270
SEQUENCE:3
DTSTAMP:20260422T111335Z
URL:https://members.annearundelchamber.org/events/details/linkedin-part-2-1270
END:VEVENT

END:VCALENDAR
