BEGIN:VCALENDAR
VERSION:2.0
PRODID:-//ChamberMaster//Event Calendar 2.0//EN
METHOD:PUBLISH
X-PUBLISHED-TTL:P3D
REFRESH-INTERVAL:P3D
CALSCALE:GREGORIAN
BEGIN:VEVENT
DTSTART:20180403T210000Z
DTEND:20180403T223000Z
X-MICROSOFT-CDO-ALLDAYEVENT:FALSE
SUMMARY:LinkedIn Part 1
DESCRIPTION:LinkedIn Part 1: Getting started with your first connections...\n\nReady to start using your network and LinkedIn to really grow your professional success? In this first part of a two part series\, we'll touch on some of the basics\, including elements of a profile\, how to connect with more people\, using recommendations and reading a connections profile. You will leave with ideas you can implement immediately.
X-ALT-DESC;FMTTYPE=text/html:LinkedIn Part 1: Getting started with your first connections...<br />\nReady to start using your network and LinkedIn to really grow your professional success? In this first part of a two part series\, we&#39\;ll touch on some of the basics\, including elements of a profile\, how to connect with more people\, using recommendations and reading a connections&nbsp\;profile. You will leave with ideas you can implement&nbsp\;immediately.&nbsp\;
LOCATION:AA County Chamber of Commerce Conference Room 134 Holiday Ct\, Suite 314 Annapolis\, MD\, 21401
UID:e.2745.1284
SEQUENCE:3
DTSTAMP:20260422T081946Z
URL:https://members.annearundelchamber.org/events/details/linkedin-part-1-1284
END:VEVENT

END:VCALENDAR
