BEGIN:VCALENDAR
VERSION:2.0
PRODID:-//ChamberMaster//Event Calendar 2.0//EN
METHOD:PUBLISH
X-PUBLISHED-TTL:P3D
REFRESH-INTERVAL:P3D
CALSCALE:GREGORIAN
BEGIN:VEVENT
DTSTART:20180206T220000Z
DTEND:20180206T233000Z
X-MICROSOFT-CDO-ALLDAYEVENT:FALSE
SUMMARY:LinkedIn Part 1
DESCRIPTION:LinkedIn: Part 1\n\nGetting started with your first connections \n\n \n\nReady to start using your network and LinkedIn to really grow your professional success?  In this first part of a two part series\, we'll touch on some of the basics\, including elements of a profile\, how to connect with more people\, using recommendations\, and reading a connections profile.  Then we'll shift our focus to your current first connections.  These are the people you know\, or have met\, or just ended up connecting with (even if you don't know why).  We'll look at ways to keep in touch with them\, start beneficial conversations\, sort them for effective follow up\, and begin building the relationships that make networking work.  You will leave with idea's you can implement immediately.
X-ALT-DESC;FMTTYPE=text/html:LinkedIn: Part 1<br />\nGetting started with your first connections&hellip\;<br />\n&nbsp\;<br />\nReady to start using your network and LinkedIn to really grow your professional success?&nbsp\; In this first part of a two part series\, we&rsquo\;ll touch on some of the basics\, including elements of a profile\, how to connect with more people\, using recommendations\, and reading a connections profile.&nbsp\; Then we&rsquo\;ll shift our focus to your current first connections.&nbsp\; These are the people you know\, or have met\, or just ended up connecting with (even if you don&rsquo\;t know why).&nbsp\; We&rsquo\;ll look at ways to keep in touch with them\, start beneficial conversations\, sort them for effective follow up\, and begin building the relationships that make networking work.&nbsp\; You will leave with idea&rsquo\;s you can implement immediately.
LOCATION:Anne Arundel County Chamber of Commerce Conference Room 134 Holiday Ct\, Suite 314 Annapolis\, MD 21401
UID:e.2745.1269
SEQUENCE:3
DTSTAMP:20260422T111254Z
URL:https://members.annearundelchamber.org/events/details/linkedin-part-1-1269
END:VEVENT

END:VCALENDAR
