BEGIN:VCALENDAR
VERSION:2.0
PRODID:-//ChamberMaster//Event Calendar 2.0//EN
METHOD:PUBLISH
X-PUBLISHED-TTL:P3D
REFRESH-INTERVAL:P3D
CALSCALE:GREGORIAN
BEGIN:VEVENT
DTSTART:20180724T153000Z
DTEND:20180724T170000Z
X-MICROSOFT-CDO-ALLDAYEVENT:FALSE
SUMMARY:LinkedIn Part 1
DESCRIPTION:Ready to start using your network and LinkedIn to really grow your professional success? In this first part of a two part series\, we'll touch on some of the basics\, including elements of a profile\, how to connect with more people\, using recommendations\, and reading a connections profile. Then we'll shift our focus to your current first connections. There are the people you know\, or have met\, or just ended up connecting with (even if you don't know why). We'll look at ways to keep in touch with them\, start beneficial conversations\, sort them for effective follow up and begin building the relationships that make networking work. You will leave with ideas you can implement immediately. Light lunch will be provided - Please RSVP Presented by Brandon Gulley\, The College Funding Coach
X-ALT-DESC;FMTTYPE=text/html:Ready to start using your network and LinkedIn to really grow your professional success? In this first part of a two part series\, we&#39\;ll touch on some of the basics\, including elements of a profile\, how to connect with more people\, using recommendations\, and reading a connections profile. Then we&#39\;ll shift our focus to your current first connections. There are the people you know\, or have met\, or just ended up connecting with (even if you don&#39\;t know why). We&#39\;ll look at ways to keep in touch with them\, start beneficial conversations\, sort them for effective follow up and begin building the relationships that make networking work. You will leave with ideas you can implement immediately. Light lunch will be provided - Please RSVP Presented by Brandon Gulley\, The College Funding Coach
LOCATION:Anne Arundel County Chamber of Commerce Conference Room 134 Holiday Ct\, Suite 314 Annapolis\, MD 21401
UID:e.2745.1293
SEQUENCE:3
DTSTAMP:20260422T032503Z
URL:https://members.annearundelchamber.org/events/details/linkedin-part-1-07-24-2018-1293
END:VEVENT

END:VCALENDAR
