BEGIN:VCALENDAR
VERSION:2.0
PRODID:-//ChamberMaster//Event Calendar 2.0//EN
METHOD:PUBLISH
X-PUBLISHED-TTL:P3D
REFRESH-INTERVAL:P3D
CALSCALE:GREGORIAN
BEGIN:VEVENT
DTSTART:20170327T120000Z
DTEND:20170327T130000Z
X-MICROSOFT-CDO-ALLDAYEVENT:FALSE
SUMMARY:LinkedIn... Fundamentals & Beyond
DESCRIPTION:LinkedIn 401 "And Then There's Everyone Else"
X-ALT-DESC;FMTTYPE=text/html:<strong style="color: rgb(0\, 0\, 255)\; font-family: Arial\, Helvetica\, sans-serif\; font-size: 12pt\;">LinkedIn 401&nbsp\;<em>&quot\;And Then There&#39\;s Everyone Else&quot\;</em></strong>
LOCATION:Chamber Office Suite 316 134 Holiday Court Annapolis\, MD 21401
UID:e.2745.27
SEQUENCE:3
DTSTAMP:20260424T145748Z
URL:https://members.annearundelchamber.org/events/details/linkedin-fundamentals-beyond-27
END:VEVENT

END:VCALENDAR
