BEGIN:VCALENDAR
VERSION:2.0
PRODID:-//ChamberMaster//Event Calendar 2.0//EN
METHOD:PUBLISH
X-PUBLISHED-TTL:P3D
REFRESH-INTERVAL:P3D
CALSCALE:GREGORIAN
BEGIN:VEVENT
DTSTART:20190614T220000Z
DTEND:20190615T003000Z
X-MICROSOFT-CDO-ALLDAYEVENT:FALSE
SUMMARY:Kickoff the Summer Bash Cruise
DESCRIPTION:Enjoy a cruise at sunset on Watermark with free food\, great networking\, music and cash bar while we celebrate Flag Day\, Karen's Bday\, and kicking off the SUMMER!  Sponsored by Northrop Realty
X-ALT-DESC;FMTTYPE=text/html:Enjoy a cruise at sunset on Watermark with free food\, great networking\, music and cash bar while we celebrate Flag Day\, Karen&#39\;s Bday\, and kicking off the SUMMER!&nbsp\; Sponsored by Northrop Realty
LOCATION:Annapolis Dock
UID:e.2745.1341
SEQUENCE:3
DTSTAMP:20260424T094426Z
URL:https://members.annearundelchamber.org/events/details/kickoff-the-summer-bash-cruise-1341
END:VEVENT

END:VCALENDAR
