BEGIN:VCALENDAR
VERSION:2.0
PRODID:-//ChamberMaster//Event Calendar 2.0//EN
METHOD:PUBLISH
X-PUBLISHED-TTL:P3D
REFRESH-INTERVAL:P3D
CALSCALE:GREGORIAN
BEGIN:VEVENT
DTSTART:20190410T120000Z
DTEND:20190410T143000Z
X-MICROSOFT-CDO-ALLDAYEVENT:FALSE
SUMMARY:Gender Equity Under Scrutiny in the Workplace
DESCRIPTION:Gender equity has become a national concern and many companies have taken steps to address the issues surrounding the gender gap.  The Chamber will be offering a unique workshop to discuss and showcase the proactive approach taken by several local companies\, Howard Bank and BGE.  The goal of the workshop is to share these best practices and stimulate discussion about this important issue and encourage other employers to establish similar policies and programs.\n\n\n\nSPEAKERS INCLUDE:\n\nMary Ann Scully\, CEO--Howard Bank\n\nDenise Galambos\, BGE--Vice President of Human Resources  \n\nTamiko Stanley\, AAMC--Head of Diversity and Inclusion
X-ALT-DESC;FMTTYPE=text/html:<span style="font-size:12px\;">Gender equity has become a national concern and many companies have taken steps to address the issues surrounding the gender gap.&nbsp\; The Chamber will be offering a unique workshop to discuss and showcase the proactive approach taken by several local companies\, Howard Bank and BGE.&nbsp\; The goal of the workshop is to share these best practices and stimulate discussion about this important issue and encourage other employers to establish similar policies and programs.</span><br />\n<br />\n<span style="font-size:12px\;"><span style="box-sizing: content-box\; font-weight: bolder\; bottom: auto\; clear: none\; color: rgb(68\, 68\, 68)\; content: normal\; direction: inherit\; empty-cells: show\; font-variant-numeric: inherit\; font-variant-east-asian: inherit\; font-stretch: inherit\; font-family: Arial\, Helvetica\, sans-serif\; left: auto\; line-height: inherit\; margin: 0px\; max-height: none\; max-width: none\; min-height: initial\; min-width: initial\; opacity: 1\; outline-offset: 0px\; overflow: visible\; padding: 0px\; position: static\; resize: none\; right: auto\; table-layout: auto\; text-overflow: clip\; top: auto\; vertical-align: baseline\; visibility: inherit\; word-break: inherit\; overflow-wrap: inherit\; z-index: auto\; background: none rgb(255\, 255\, 255)\; border: none\; border-collapse: separate\; border-radius: 0px\; height: auto\; width: auto\; box-shadow: none\;">SPEAKERS INCLUDE:</span></span><br style="box-sizing: content-box\; bottom: auto\; clear: none\; color: rgb(68\, 68\, 68)\; content: normal\; direction: inherit\; display: inline\; empty-cells: show\; float: none\; font-variant-numeric: inherit\; font-variant-east-asian: inherit\; font-stretch: inherit\; font-size: 14px\; font-family: Arial\, Helvetica\, sans-serif\; left: auto\; line-height: inherit\; margin: 0px\; max-height: none\; max-width: none\; min-height: initial\; min-width: initial\; opacity: 1\; outline-offset: 0px\; overflow: visible\; padding: 0px\; position: static\; resize: none\; right: auto\; table-layout: auto\; text-overflow: clip\; top: auto\; vertical-align: baseline\; visibility: inherit\; word-break: inherit\; overflow-wrap: inherit\; z-index: auto\; background: none rgb(255\, 255\, 255)\; border: none\; border-collapse: separate\; border-radius: 0px\; height: auto\; width: auto\;" />\n<span style="font-size:12px\;"><span style="color: rgb(68\, 68\, 68)\; font-family: Arial\, Helvetica\, sans-serif\; background-color: rgb(255\, 255\, 255)\;">Mary Ann Scully\, CEO--Howard Bank</span><br style="box-sizing: content-box\; bottom: auto\; clear: none\; color: rgb(68\, 68\, 68)\; content: normal\; direction: inherit\; display: inline\; empty-cells: show\; float: none\; font-variant-numeric: inherit\; font-variant-east-asian: inherit\; font-stretch: inherit\; font-size: 14px\; font-family: Arial\, Helvetica\, sans-serif\; left: auto\; line-height: inherit\; margin: 0px\; max-height: none\; max-width: none\; min-height: initial\; min-width: initial\; opacity: 1\; outline-offset: 0px\; overflow: visible\; padding: 0px\; position: static\; resize: none\; right: auto\; table-layout: auto\; text-overflow: clip\; top: auto\; vertical-align: baseline\; visibility: inherit\; word-break: inherit\; overflow-wrap: inherit\; z-index: auto\; background: none rgb(255\, 255\, 255)\; border: none\; border-collapse: separate\; border-radius: 0px\; height: auto\; width: auto\;" />\n<span style="font-family:arial\;">Denise Galambos\, BGE--Vice President of Human Resources&nbsp\;<span style="color: rgb(68\, 68\, 68)\; background-color: rgb(255\, 255\, 255)\;">&nbsp\;</span></span><br style="box-sizing: content-box\; bottom: auto\; clear: none\; color: rgb(68\, 68\, 68)\; content: normal\; direction: inherit\; display: inline\; empty-cells: show\; float: none\; font-variant-numeric: inherit\; font-variant-east-asian: inherit\; font-stretch: inherit\; font-size: 14px\; font-family: Arial\, Helvetica\, sans-serif\; left: auto\; line-height: inherit\; margin: 0px\; max-height: none\; max-width: none\; min-height: initial\; min-width: initial\; opacity: 1\; outline-offset: 0px\; overflow: visible\; padding: 0px\; position: static\; resize: none\; right: auto\; table-layout: auto\; text-overflow: clip\; top: auto\; vertical-align: baseline\; visibility: inherit\; word-break: inherit\; overflow-wrap: inherit\; z-index: auto\; background: none rgb(255\, 255\, 255)\; border: none\; border-collapse: separate\; border-radius: 0px\; height: auto\; width: auto\;" />\n<font color="#444444" face="Arial\, Helvetica\, sans-serif"><span style="background-color: rgb(255\, 255\, 255)\;">Tamiko Stanley\, AAMC--Head of Diversity and Inclusion</span></font></span>
LOCATION:Anne Arundel Community College Cade Center\, Room 219 101 College Parkway Arnold\, MD 21012
UID:e.2745.1327
SEQUENCE:3
DTSTAMP:20260421T151810Z
URL:https://members.annearundelchamber.org/events/details/gender-equity-under-scrutiny-in-the-workplace-1327
END:VEVENT

END:VCALENDAR
