BEGIN:VCALENDAR
VERSION:2.0
PRODID:-//ChamberMaster//Event Calendar 2.0//EN
METHOD:PUBLISH
X-PUBLISHED-TTL:P3D
REFRESH-INTERVAL:P3D
CALSCALE:GREGORIAN
BEGIN:VEVENT
DTSTART:20190427T140000Z
DTEND:20190428T220000Z
X-MICROSOFT-CDO-ALLDAYEVENT:FALSE
SUMMARY:Food and Spirits Festival
DESCRIPTION:The Food & Spirits Festival is a culinary adventure that will awaken your taste buds and provide a unique cultural experience perfect for local families and visitors alike. The Festival will promote multi-cultural arts & crafts and local entertainment. Festival attendees will embrace the rich culture of the Mid-Atlantic Region through its art\, food\, music\, and more. In addition to the tasting opportunities\, this festival attracts many artisans\, musicians\, vendors\, and more. It truly is a remarkable festival that is designed to be a premiere event for wine connossieurs\, beer lovers\, and specialty libations in the local area and beyond! Come out and celebrate "Food and Spirits Festival". We look forward to many years to come!
X-ALT-DESC;FMTTYPE=text/html:The Food &amp\; Spirits Festival is a culinary adventure that will awaken your taste buds and provide a unique cultural experience perfect for local families and visitors alike. The Festival will promote multi-cultural arts &amp\; crafts and local entertainment. Festival attendees will embrace the rich culture of the Mid-Atlantic Region through its art\, food\, music\, and more. In addition to the tasting opportunities\, this festival attracts many artisans\, musicians\, vendors\, and more. It truly is a remarkable festival that is designed to be a premiere event for wine connossieurs\, beer lovers\, and specialty libations in the local area and beyond! Come out and celebrate &quot\;Food and Spirits Festival&quot\;. We look forward to many years to come!
LOCATION:Anne Arundel County Fairgrounds 1450 Generals Highway Crownsville\, MD 21032
UID:e.2745.1339
SEQUENCE:3
DTSTAMP:20260421T151948Z
URL:https://members.annearundelchamber.org/events/details/food-and-spirits-festival-1339
END:VEVENT

END:VCALENDAR
