BEGIN:VCALENDAR
VERSION:2.0
PRODID:-//ChamberMaster//Event Calendar 2.0//EN
METHOD:PUBLISH
X-PUBLISHED-TTL:P3D
REFRESH-INTERVAL:P3D
CALSCALE:GREGORIAN
BEGIN:VEVENT
DTSTART:20180328T123000Z
DTEND:20180328T133000Z
X-MICROSOFT-CDO-ALLDAYEVENT:FALSE
SUMMARY:Environmental Committee Meeting with Mayor Buckley
DESCRIPTION:Newly-elected Annapolis Mayor Gavin Buckley will be joining the Chamber's Environmental Committee to discuss current environmental issues facing the City and to discuss his priorities for his coming term.
X-ALT-DESC;FMTTYPE=text/html:Newly-elected Annapolis Mayor Gavin Buckley will be joining the Chamber&#39\;s Environmental Committee to discuss current environmental issues facing the City and to discuss his priorities for his coming term.
LOCATION:Chamber Offices
UID:e.2745.1275
SEQUENCE:3
DTSTAMP:20260424T082754Z
URL:https://members.annearundelchamber.org/events/details/environmental-committee-meeting-with-mayor-buckley-1275
END:VEVENT

END:VCALENDAR
