BEGIN:VCALENDAR
VERSION:2.0
PRODID:-//ChamberMaster//Event Calendar 2.0//EN
METHOD:PUBLISH
X-PUBLISHED-TTL:P3D
REFRESH-INTERVAL:P3D
CALSCALE:GREGORIAN
BEGIN:VEVENT
DTSTART:20180725T123000Z
DTEND:20180725T133000Z
X-MICROSOFT-CDO-ALLDAYEVENT:FALSE
SUMMARY:Environmental Committee Meeting
DESCRIPTION:Please join our Chamber Environmental Committee meeting with Erik Michelsen. Erik will talk to us about the County's progress on stormwater and TMDL issues.
X-ALT-DESC;FMTTYPE=text/html:Please join our Chamber Environmental Committee meeting with Erik Michelsen. Erik will talk to us about the County&rsquo\;s progress on stormwater and TMDL issues.
LOCATION:134 Holiday Court\, Suite 316
UID:e.2745.1296
SEQUENCE:3
DTSTAMP:20260422T032038Z
URL:https://members.annearundelchamber.org/events/details/environmental-committee-meeting-1296
END:VEVENT

END:VCALENDAR
