BEGIN:VCALENDAR
VERSION:2.0
PRODID:-//ChamberMaster//Event Calendar 2.0//EN
METHOD:PUBLISH
X-PUBLISHED-TTL:P3D
REFRESH-INTERVAL:P3D
CALSCALE:GREGORIAN
BEGIN:VEVENT
DTSTART:20190611T153000Z
DTEND:20190611T173000Z
X-MICROSOFT-CDO-ALLDAYEVENT:FALSE
SUMMARY:Economic Outlook Lunch
DESCRIPTION:The Chamber is pleased to have Anirban Basu as the keynote speaker for the Economic Outlook Lunch.  Anirban is one of the most informative and entertaining economists in the United States and he will highlight the strengths and weaknesses in the national and local economy. \n\n\n\nThis is an outstanding opportunity to gain a deeper insight into current economic conditions\, connect with business associates and participate in a special stadium tour after lunch.
X-ALT-DESC;FMTTYPE=text/html:The Chamber is&nbsp\;<span style="color: rgb(51\, 51\, 51)\; font-family: sans-serif\, Arial\, Verdana\, &quot\;Trebuchet MS&quot\;\; font-size: 13px\; background-color: rgb(255\, 255\, 255)\;">pleased to have <strong>Anirban Basu</strong> as the keynote speaker for the</span>&nbsp\;Economic Outlook Lunch.&nbsp\; Anirban is one of the most informative and entertaining economists in the United States and he will highlight the strengths and weaknesses in the national and local economy.&nbsp\;<br />\n<br />\nThis is an outstanding opportunity to gain a deeper insight into current economic conditions\, connect with business associates and participate in a special stadium tour after lunch.
LOCATION:Admiral Lawrence Banquet Room Navy-Marine Corp Memorial Stadium
UID:e.2745.1347
SEQUENCE:3
DTSTAMP:20260424T084401Z
URL:https://members.annearundelchamber.org/events/details/economic-outlook-lunch-1347
END:VEVENT

END:VCALENDAR
