BEGIN:VCALENDAR
VERSION:2.0
PRODID:-//ChamberMaster//Event Calendar 2.0//EN
METHOD:PUBLISH
X-PUBLISHED-TTL:P3D
REFRESH-INTERVAL:P3D
CALSCALE:GREGORIAN
BEGIN:VEVENT
DTSTART:20190217T000000Z
DTEND:20190217T023000Z
X-MICROSOFT-CDO-ALLDAYEVENT:FALSE
SUMMARY:CYSO Chamber Concert
DESCRIPTION:CYSO\, welcomes Stefan Jackiw\, February 16th\n\n\n\n\n\n\n"STEFAN JACKIW HAS RISEN SWIFTLY IN THE PAST DECADE TO CHALLENGE THE FOREMOST TALENTS OF OUR DAY - EHNES\, TEZLAFF\, KAVAKOS\, HAHN - BY THE QUALITY OF HIS INSIGHT AND SKILL. HE PLAYED MOZART LIKE AN ANGEL. THE RESULT WAS ABOUT AS PURE AND AS CLOSE TO PERFECTION AS MUSIC CAN GET." \n\n- THE GLOBE AND MAIL\n\nThe Chesapeake Symphony Youth Orchestra welcomes phenomenon violinist\, Stefan Jackiw\, to perform Mozart's regarded Violin Concerto No. 3 in G major\, K. 216\, conducted by Maestro Julien Benichou. The concert will take place at Woods Memorial Presbyterian Church at 7pm\, on Saturday\, February 16th and will feature the CYSO's own String Orchestra\, Preparatory Orchestra and Chamber Orchestra. Admission is free. For more information please contact Linda Foss at 443-758-3157 or at execdir@cysomusic.org.
X-ALT-DESC;FMTTYPE=text/html:<h1>CYSO\, welcomes Stefan Jackiw\, February 16th</h1>\n\n<div>\n<div style="margin-left:-17px\; margin-right:-17px">\n<div>\n<div style="margin-left:auto\; margin-right:auto">\n<div>\n<h3>&ldquo\;STEFAN JACKIW HAS RISEN SWIFTLY IN THE PAST DECADE TO CHALLENGE THE FOREMOST TALENTS OF OUR DAY - EHNES\, TEZLAFF\, KAVAKOS\, HAHN - BY THE QUALITY OF HIS INSIGHT AND SKILL. HE PLAYED MOZART LIKE AN ANGEL. THE RESULT WAS ABOUT AS PURE AND AS CLOSE TO PERFECTION AS MUSIC CAN GET.&rdquo\;&nbsp\;</h3>\n\n<p>-&nbsp\;THE GLOBE AND MAIL</p>\n\n<p>The Chesapeake Symphony Youth Orchestra welcomes phenomenon violinist\, <a href="http://stefanjackiw.com/" style="background-color: transparent\; color: rgb(49\, 132\, 147)\; text-decoration-line: none\; padding-bottom: 0.05em\; border-bottom: 1px solid rgba(49\, 132\, 147\, 0.298)\; transition: border-color 0.15s ease-out 0s\, color 0.15s ease-out 0s\; overflow-wrap: break-word\;" target="_blank">Stefan Jackiw\,</a> to perform Mozart&rsquo\;s regarded <em>Violin Concerto No. 3 in G major</em>\, K. 216\, conducted by Maestro Julien Benichou.&nbsp\;The concert will take place at Woods Memorial Presbyterian Church at 7pm\, on Saturday\, February 16th and will feature the CYSO&rsquo\;s own String Orchestra\, Preparatory Orchestra and Chamber Orchestra. Admission is free. For more information please contact Linda Foss at <a href="tel:443-758-3157" style="background-color: transparent\; color: rgb(49\, 132\, 147)\; text-decoration-line: none\; padding-bottom: 0.05em\; border-bottom: 1px solid rgba(49\, 132\, 147\, 0.298)\; transition: border-color 0.15s ease-out 0s\, color 0.15s ease-out 0s\; overflow-wrap: break-word\;">443-758-3157</a> or at <a href="mailto:execdir@cysomusic.org" style="background-color: transparent\; color: rgb(49\, 132\, 147)\; text-decoration-line: none\; padding-bottom: 0.05em\; border-bottom: 1px solid rgba(49\, 132\, 147\, 0.298)\; transition: border-color 0.15s ease-out 0s\, color 0.15s ease-out 0s\; overflow-wrap: break-word\;">execdir@cysomusic.org</a>.</p>\n</div>\n</div>\n</div>\n</div>\n</div>\n
LOCATION:Woods Memorial Presbyterian Church 611 Baltimore Annapolis Blvd Severna Park\, MD 21146
UID:e.2745.1332
SEQUENCE:3
DTSTAMP:20260421T174627Z
URL:https://members.annearundelchamber.org/events/details/cyso-chamber-concert-1332
END:VEVENT

END:VCALENDAR
