BEGIN:VCALENDAR
VERSION:2.0
PRODID:-//ChamberMaster//Event Calendar 2.0//EN
METHOD:PUBLISH
X-PUBLISHED-TTL:P3D
REFRESH-INTERVAL:P3D
CALSCALE:GREGORIAN
BEGIN:VEVENT
DTSTART:20221015T170000Z
DTEND:20221015T200000Z
X-MICROSOFT-CDO-ALLDAYEVENT:FALSE
SUMMARY:Children's Business Fair Annapolis
DESCRIPTION:Imagine a farmer's market\, but with every booth run by a kid! Kids develop a brand\, create a product or service\, build a marketing strategy\, and then open for customers at our one-day marketplace. What better way to learn about business and entrepreneurship? Originally started in Austin\, Texas\, the Acton Children's Business Fair has grown to over 1\,200 fairs in 387 cities and 16 countries.
X-ALT-DESC;FMTTYPE=text/html:Imagine a farmer&#39\;s market\, but with every booth run by a kid! Kids develop a brand\, create a product or service\, build a marketing strategy\, and then open for customers at our one-day marketplace. What better way to learn about business and entrepreneurship? Originally started in Austin\, Texas\, the Acton Children&#39\;s Business Fair has grown to over 1\,200 fairs in 387 cities and 16 countries.
LOCATION:461 College Pkwy\, Arnold\, MD 21012
UID:e.2745.3996
SEQUENCE:3
DTSTAMP:20260422T023914Z
URL:https://members.annearundelchamber.org/events/details/children-s-business-fair-annapolis-3996
END:VEVENT

END:VCALENDAR
