BEGIN:VCALENDAR
VERSION:2.0
PRODID:-//ChamberMaster//Event Calendar 2.0//EN
METHOD:PUBLISH
X-PUBLISHED-TTL:P3D
REFRESH-INTERVAL:P3D
CALSCALE:GREGORIAN
BEGIN:VEVENT
DTSTART:20190529T210000Z
DTEND:20190529T230000Z
X-MICROSOFT-CDO-ALLDAYEVENT:FALSE
SUMMARY:Chamber Meet-Up
DESCRIPTION:Want to know more about the Chamber and how to get the most out of your membership?  This is a casual event atmosphere at Brass Tap to meet the staff\, board\, ambassadors and other members.  It is a great opportunity to get training\, ask questions\, network and find out what's NEW at Anne Arundel Chamber of Commerce.  The Brass Tap Annapolis offers over 300 craft beers from around the globe in a neighborhood atmosphere that feels both relaxed and upscale. Enjoy good food\, try a new beer\, and make connections!
X-ALT-DESC;FMTTYPE=text/html:Want to know more about the Chamber and how to get the most out of your membership?&nbsp\; This is a casual event atmosphere at Brass Tap to meet the staff\, board\, ambassadors and other members.&nbsp\; It is a great opportunity to get training\, ask questions\, network and find out what&#39\;s NEW at Anne Arundel Chamber of Commerce.&nbsp\; <span style="font-family:arial\;"><span style="list-style: none\; text-align: left\; color: rgb(102\, 102\, 102)\; text-transform: none\; line-height: 18px\; text-indent: 0px\; letter-spacing: normal\; font-size: 13px\; font-style: normal\; font-variant: normal\; font-weight: 400\; text-decoration: none\; word-spacing: 0px\; display: inline !important\; white-space: normal\; border-collapse: collapse\; border-spacing: 0px 0px\; orphans: 2\; float: none\; -webkit-text-stroke-width: 0px\; background-color: transparent\;">The </span><strong style="background-color: transparent\; color: rgb(102\, 102\, 102)\; font-family: Arial\,Helvetica\,Sans-Serif\; font-size: 13px\; font-style: normal\; font-variant: normal\; font-weight: 700\; letter-spacing: normal\; orphans: 2\; text-align: left\; text-decoration: none\; text-indent: 0px\; text-transform: none\; -webkit-text-stroke-width: 0px\; white-space: normal\; word-spacing: 0px\;">Brass Tap Annapolis</strong></span><span style="display: inline !important\; float: none\; background-color: transparent\; border-collapse: collapse\; border-spacing: 0px 0px\; color: rgb(102\, 102\, 102)\; font-family: Arial\,Helvetica\,Sans-Serif\; font-size: 13px\; font-style: normal\; font-variant: normal\; font-weight: 400\; letter-spacing: normal\; line-height: 18px\; list-style-image: none\; list-style-position: outside\; list-style-type: none\; orphans: 2\; text-align: left\; text-decoration: none\; text-indent: 0px\; text-transform: none\; -webkit-text-stroke-width: 0px\; white-space: normal\; word-spacing: 0px\;"><span style="font-family:arial\;"> offers over 300 craft beers from around the globe in a neighborhood atmosphere that feels both relaxed and upscale</span>. </span>Enjoy good food\, try a new beer\, and make connections!
LOCATION:Brass Tap Annapolis Westfield Mall (outside entrance between Cheesecake Factory & Nordstroms) Annapolis\, MD
UID:e.2745.1356
SEQUENCE:3
DTSTAMP:20260421T140650Z
URL:https://members.annearundelchamber.org/events/details/chamber-meet-up-1356
END:VEVENT

END:VCALENDAR
