BEGIN:VCALENDAR
VERSION:2.0
PRODID:-//ChamberMaster//Event Calendar 2.0//EN
METHOD:PUBLISH
X-PUBLISHED-TTL:P3D
REFRESH-INTERVAL:P3D
CALSCALE:GREGORIAN
BEGIN:VEVENT
DTSTART:20221001T000000Z
DTEND:20221001T020000Z
X-MICROSOFT-CDO-ALLDAYEVENT:FALSE
SUMMARY:Celebrate America! - ASO Masterworks I Concert Series
DESCRIPTION:A rousing opening to the season celebrating aspects of America. Copland's El Sal n M xico is a postcard impression of Mexico through its dance hall melodies. Samuel Barber's Knoxville: Summer of 1915 evokes the tranquil and dreamlike American South. With text taken from the Ellis Island Oral History Project\, Peter Boyer's work tells the stories of seven different immigrants from seven different countries who arrived between 1910 and 1940. Their stories transcend generations and still resonate today.
X-ALT-DESC;FMTTYPE=text/html:A rousing opening to the season celebrating aspects of America. Copland&rsquo\;s El Sal&oacute\;n M&eacute\;xico is a postcard impression of Mexico through its dance hall melodies. Samuel Barber&rsquo\;s Knoxville: Summer of 1915 evokes the tranquil and dreamlike American South. With text taken from the Ellis Island Oral History Project\, Peter Boyer&rsquo\;s work tells the stories of seven different immigrants from seven different countries who arrived between 1910 and 1940. Their stories transcend generations and still resonate today.
LOCATION:Maryland Hall 801 Chase St Annapolis\, MD 21401
UID:e.2745.3977
SEQUENCE:3
DTSTAMP:20260421T070034Z
URL:https://members.annearundelchamber.org/events/details/celebrate-america-aso-masterworks-i-concert-series-3977
END:VEVENT

END:VCALENDAR
