BEGIN:VCALENDAR
VERSION:2.0
PRODID:-//ChamberMaster//Event Calendar 2.0//EN
METHOD:PUBLISH
X-PUBLISHED-TTL:P3D
REFRESH-INTERVAL:P3D
CALSCALE:GREGORIAN
BEGIN:VEVENT
DTSTART:20190509T120000Z
DTEND:20190509T140000Z
X-MICROSOFT-CDO-ALLDAYEVENT:FALSE
SUMMARY:Capital Gazette BBB
DESCRIPTION:
X-ALT-DESC;FMTTYPE=text/html:
LOCATION:Chartwell Country Club 1 Chartwell Dr. Severna Park\, MD 21146
UID:e.2745.1349
SEQUENCE:3
DTSTAMP:20260421T144723Z
URL:https://members.annearundelchamber.org/events/details/capital-gazette-bbb-1349
END:VEVENT

END:VCALENDAR
