BEGIN:VCALENDAR
VERSION:2.0
PRODID:-//ChamberMaster//Event Calendar 2.0//EN
METHOD:PUBLISH
X-PUBLISHED-TTL:P3D
REFRESH-INTERVAL:P3D
CALSCALE:GREGORIAN
BEGIN:VEVENT
DTSTART:20170427T153000Z
DTEND:20170427T173000Z
X-MICROSOFT-CDO-ALLDAYEVENT:FALSE
SUMMARY:Business Leaders Luncheon with Governor Hogan & Comptroller Franchot
DESCRIPTION:Please join us for this must attend program as the joint Chambers of Commerce for Anne Arundel County host a Business Leaders Luncheon with Governor Larry Hogan and Comptroller Peter Franchot. Our moderator for the program for this lunchtime Q&A program will be Joanna Sullivan\, Editor-in-Chief for the Baltimore Business Journal.
X-ALT-DESC;FMTTYPE=text/html:Please join us for this must attend program as the joint Chambers of Commerce for Anne Arundel County host a Business Leaders Luncheon with Governor Larry Hogan and Comptroller Peter Franchot. Our moderator for the program for this lunchtime Q&amp\;A program will be Joanna Sullivan\, Editor-in-Chief for the Baltimore Business Journal.
LOCATION:La Fontaine Bleue 7514 Ritchie Highway Glen Burnie\, Maryland
UID:e.2745.28
SEQUENCE:3
DTSTAMP:20260424T133351Z
URL:https://members.annearundelchamber.org/events/details/business-leaders-luncheon-with-governor-hogan-comptroller-franchot-28
END:VEVENT

END:VCALENDAR
