BEGIN:VCALENDAR
VERSION:2.0
PRODID:-//ChamberMaster//Event Calendar 2.0//EN
METHOD:PUBLISH
X-PUBLISHED-TTL:P3D
REFRESH-INTERVAL:P3D
CALSCALE:GREGORIAN
BEGIN:VEVENT
DTSTART:20171101T220000Z
DTEND:20171102T010000Z
X-MICROSOFT-CDO-ALLDAYEVENT:FALSE
SUMMARY:Business Hall of Fame & Awards Banquet
DESCRIPTION:Join the Celebration! ... As the Anne Arundel business community recognizes outstanding business achievement at the Annual Anne Arundel County Chamber's Business Hall of Fame and Business Awards Dinner Presented by Severn Savings Bank.
X-ALT-DESC;FMTTYPE=text/html:Join the Celebration! ... As the Anne Arundel business community recognizes outstanding business achievement at the Annual Anne Arundel County Chamber&#39\;s Business Hall of Fame and Business Awards Dinner Presented by Severn Savings Bank.
LOCATION:Loews Annapolis Hotel
UID:e.2745.221
SEQUENCE:3
DTSTAMP:20260422T155425Z
URL:https://members.annearundelchamber.org/events/details/business-hall-of-fame-awards-banquet-221
END:VEVENT

END:VCALENDAR
