BEGIN:VCALENDAR
VERSION:2.0
PRODID:-//ChamberMaster//Event Calendar 2.0//EN
METHOD:PUBLISH
X-PUBLISHED-TTL:P3D
REFRESH-INTERVAL:P3D
CALSCALE:GREGORIAN
BEGIN:VEVENT
DTSTART:20190321T120000Z
DTEND:20190321T133000Z
X-MICROSOFT-CDO-ALLDAYEVENT:FALSE
SUMMARY:Business Builder's Breakfast - Feed the Good Wolf
DESCRIPTION:Have you ever heard of the old Cherokee legend about the two wolves within us that are always fighting?...Well\, this training is going to be like none other! If you need support in your business\, marketing tips\, how to get the most out of your membership\, encouragement personally and professionally and want to have real tools to make your life more meaningful\, DON'T miss March Business Builder's Breakfast workshop hosted by the Chamber.
X-ALT-DESC;FMTTYPE=text/html:<div style="color: rgb(64\, 63\, 66)\; font-family: Arial\, Verdana\, Helvetica\, sans-serif\; font-size: 14px\; white-space: pre-wrap\; background-color: rgb(246\, 246\, 246)\;">Have you ever heard of the old Cherokee legend about the two wolves within us that are always fighting?...<span style="font-weight: bold\;">Well\, this training is going to be like none other!</span> If you need support in your business\, marketing tips\, how to get the most out of your membership\, encouragement personally and professionally and want to have real tools to make your life more meaningful\, DON&#39\;T miss March Business Builder&#39\;s Breakfast workshop hosted by the Chamber.</div>\n
LOCATION:Double Tree Hotel 210 Holiday Court Annapolis\, Maryland 21401 www.doubletreeannapolis.com
UID:e.2745.1334
SEQUENCE:3
DTSTAMP:20260421T174627Z
URL:https://members.annearundelchamber.org/events/details/business-builder-s-breakfast-feed-the-good-wolf-1334
END:VEVENT

END:VCALENDAR
