BEGIN:VCALENDAR
VERSION:2.0
PRODID:-//ChamberMaster//Event Calendar 2.0//EN
METHOD:PUBLISH
X-PUBLISHED-TTL:P3D
REFRESH-INTERVAL:P3D
CALSCALE:GREGORIAN
BEGIN:VEVENT
DTSTART:20190514T130000Z
DTEND:20190514T150000Z
X-MICROSOFT-CDO-ALLDAYEVENT:FALSE
SUMMARY:Broker Breakfast
DESCRIPTION:Broker Breakfast and all interested - hosted by Commercial Management Company. Come view East Park Shopping Center and learn about our other two Anne Arundel Locations - River Reach and 650 Ritchie Highway both in Severna Park. Registered brokers eligible for bonus. RSVP to Melba Padilla -mpadilla@dricmc.com
X-ALT-DESC;FMTTYPE=text/html:Broker Breakfast and all interested - hosted by Commercial Management Company. Come view East Park Shopping Center and learn about our other two Anne Arundel Locations - River Reach and 650 Ritchie Highway both in Severna Park. Registered brokers eligible for bonus. RSVP to Melba Padilla -mpadilla@dricmc.com
LOCATION:East Park Shopping Center 7454 Crain Highway\, Glen Burnie\, MD
UID:e.2745.1353
SEQUENCE:3
DTSTAMP:20260421T140113Z
URL:https://members.annearundelchamber.org/events/details/broker-breakfast-1353
END:VEVENT

END:VCALENDAR
