BEGIN:VCALENDAR
VERSION:2.0
PRODID:-//ChamberMaster//Event Calendar 2.0//EN
METHOD:PUBLISH
X-PUBLISHED-TTL:P3D
REFRESH-INTERVAL:P3D
CALSCALE:GREGORIAN
BEGIN:VEVENT
DTSTART:20221110T233000Z
DTEND:20221111T010000Z
X-MICROSOFT-CDO-ALLDAYEVENT:FALSE
SUMMARY:Bosses Night Out
DESCRIPTION:MTC Consulting presents the first Bosses Night Out (BNO) networking cocktail event. This event is for business owners and leaders who manage employees and need the night off to relax. Join Dr. Kyla Vanchieri\, Principal Consultant at MTC Consulting\, for a night off from the stressors involved with managing a business and leading people. This is a free event for business owners and leaders only. Cocktail attire is encouraged. Refreshments will be provided. MTC Consulting offers services including project consultation\, employee performance improvement\, and employee relations. Any matters discussed will be kept confidential.
X-ALT-DESC;FMTTYPE=text/html:MTC Consulting presents the first Bosses Night Out (BNO) networking cocktail event. This event is for business owners and leaders who manage employees and need the night off to relax. Join Dr. Kyla Vanchieri\, Principal Consultant at MTC Consulting\, for a night off from the stressors involved with managing a business and leading people. This is a free event for business owners and leaders only. Cocktail attire is encouraged. Refreshments will be provided. MTC Consulting offers services including project consultation\, employee performance improvement\, and employee relations. Any matters discussed will be kept confidential.
LOCATION:Paladar Latin Kitchen & Rum Bar 203 Crown Park Avenue Gaithersburg\, MD 20878
UID:e.2745.3994
SEQUENCE:3
DTSTAMP:20260422T012142Z
URL:https://members.annearundelchamber.org/events/details/bosses-night-out-3994
END:VEVENT

END:VCALENDAR
