BEGIN:VCALENDAR
VERSION:2.0
PRODID:-//ChamberMaster//Event Calendar 2.0//EN
METHOD:PUBLISH
X-PUBLISHED-TTL:P3D
REFRESH-INTERVAL:P3D
CALSCALE:GREGORIAN
BEGIN:VEVENT
DTSTART:20190530T220000Z
DTEND:20190531T010000Z
X-MICROSOFT-CDO-ALLDAYEVENT:FALSE
SUMMARY:Barrels\, Bites\, & Bikes
DESCRIPTION:Join us for a night of bourbon and wine tastings to benefit the Susan G. Komen Maryland Promise Ride! The Fundraiser is held on May 30th from 6 PM to 9 PM at the Red Red Wine Bar in Annapolis! $80 ticket includes five tastings of bourbons and/or wines listed below. $100 ticket includes two additional VIP tastings of Dry85 private barrel bourbons. Cash bar available. Must be 21 years old to attend! You can call me directly to purchase your tickets\, or click here. Bourbons: Jim Beam Repeal Batch Bulleit Rye Larceny Wines: Carmina Verdejo (White - Spain) Hedges CMS (Red - Washington) Duckpond (Rose - Oregon) Appetizers: Bacon-Wrapped Beef Medallions Bruschetta Crab Dip Crostinis Brie Toast This event is proudly sponsored by: DRY 85 and You've Got MAIDS of Annapolis
X-ALT-DESC;FMTTYPE=text/html:Join us for a night of bourbon and wine tastings to benefit the Susan G. Komen Maryland Promise Ride! The Fundraiser is held on May 30th from 6 PM to 9 PM at the Red Red Wine Bar in Annapolis! $80 ticket includes five tastings of bourbons and/or wines listed below. $100 ticket includes two additional VIP tastings of Dry85 private barrel bourbons. Cash bar available. Must be 21 years old to attend! You can call me directly to purchase your tickets\, or click here. Bourbons: Jim Beam Repeal Batch Bulleit Rye Larceny Wines: Carmina Verdejo (White - Spain) Hedges CMS (Red - Washington) Duckpond (Rose - Oregon) Appetizers: Bacon-Wrapped Beef Medallions Bruschetta Crab Dip Crostinis Brie Toast This event is proudly sponsored by: DRY 85 and You&#39\;ve Got MAIDS of Annapolis
LOCATION:Red Red Wine Bar\, Annapolis\, MD
UID:e.2745.1357
SEQUENCE:3
DTSTAMP:20260421T140238Z
URL:https://members.annearundelchamber.org/events/details/barrels-bites-bikes-1357
END:VEVENT

END:VCALENDAR
