BEGIN:VCALENDAR
VERSION:2.0
PRODID:-//ChamberMaster//Event Calendar 2.0//EN
METHOD:PUBLISH
X-PUBLISHED-TTL:P3D
REFRESH-INTERVAL:P3D
CALSCALE:GREGORIAN
BEGIN:VEVENT
DTSTART:20181128T230000Z
DTEND:20181129T020000Z
X-MICROSOFT-CDO-ALLDAYEVENT:FALSE
SUMMARY:Annual Holiday Mixer
DESCRIPTION:Annual Holiday Mixer at Homestead Gardens with fabulous food from local restaurants\, great beer & wine\, festive music and an auction! Join us!
X-ALT-DESC;FMTTYPE=text/html:Annual Holiday Mixer at Homestead Gardens with fabulous food from local restaurants\, great beer &amp\; wine\, festive music and an auction! Join us!
LOCATION:Homestead Gardens 743 West Central Ave Davidsonville\, MD 21035
UID:e.2745.1316
SEQUENCE:3
DTSTAMP:20260421T215445Z
URL:https://members.annearundelchamber.org/events/details/annual-holiday-mixer-1316
END:VEVENT

END:VCALENDAR
