BEGIN:VCALENDAR
VERSION:2.0
PRODID:-//ChamberMaster//Event Calendar 2.0//EN
METHOD:PUBLISH
X-PUBLISHED-TTL:P3D
REFRESH-INTERVAL:P3D
CALSCALE:GREGORIAN
BEGIN:VEVENT
DTSTART:20220127T180000Z
DTEND:20220127T200000Z
X-MICROSOFT-CDO-ALLDAYEVENT:FALSE
SUMMARY:African American Heritage Walking Tour
DESCRIPTION:Trace the journey of African Americans\, and explore their impact both nationally and internationally. This 2-hour walking tour\, offered in partnership with the Kunte Kinte-Alex Haley Foundation and named a "Heritage Award Winner" by the Four Rivers Heritage Area\, starts at Market House Park across from Annapolis City Dock\, where slave ships entered 300 years ago. The Alex Haley statue that marks the significance of the author of Roots and the journey of his ancestor Kunte Kinte is featured. Symbolically\, the stroll continues uphill through local history to the State House and the statue of Thurgood Marshall\, the first African American Supreme Court Justice. Hear of famous Marylanders\, such as Harriet Tubman and Frederick Douglass. Your period-attired guide will highlight the importance of the Underground Railroad in the Chesapeake Bay region. During colonial times\, the labor of both the enslaved and free blacks was the cornerstone upon which the tobacco economy was built. In the 19th-century\, Maryland was home to more free African Americans than any other state. Presently\, Maryland continues to grow because of the important contributions made by her African American residents. The Kunta Kinte-Alex Haley Foundation receives 20% of the proceeds.
X-ALT-DESC;FMTTYPE=text/html:<span style="background-color:rgb(255\, 255\, 255)\; color:rgb(2\, 15\, 20)\; font-family:roboto\,sans-serif\; font-size:18px">Trace the journey of African Americans\, and explore their impact both nationally and internationally. This 2-hour walking tour\, offered in partnership with the Kunte Kinte-Alex Haley Foundation and named a &ldquo\;Heritage Award Winner&rdquo\; by the Four Rivers Heritage Area\, starts at Market House Park across from Annapolis City Dock\, where slave ships entered 300 years ago. The Alex Haley statue that marks the significance of the author of Roots and the journey of his ancestor Kunte Kinte is featured. Symbolically\, the stroll continues uphill through local history to the State House and the statue of Thurgood Marshall\, the first African American Supreme Court Justice. Hear of famous Marylanders\, such as Harriet Tubman and Frederick Douglass. Your period-attired guide will highlight the importance of the Underground Railroad in the Chesapeake Bay region. During colonial times\, the labor of both the enslaved and free blacks was the cornerstone upon which the tobacco economy was built. In the 19th-century\, Maryland was home to more free African Americans than any other state. Presently\, Maryland continues to grow because of the important contributions made by her African American residents. The Kunta Kinte-Alex Haley Foundation receives 20% of the proceeds.</span>
LOCATION:Market House Park 25 Market Space\, Annapolis MD
UID:e.2745.3897
SEQUENCE:3
DTSTAMP:20260422T144217Z
URL:https://members.annearundelchamber.org/events/details/african-american-heritage-walking-tour-3897
END:VEVENT

END:VCALENDAR
