BEGIN:VCALENDAR
VERSION:2.0
PRODID:-//ChamberMaster//Event Calendar 2.0//EN
METHOD:PUBLISH
X-PUBLISHED-TTL:P3D
REFRESH-INTERVAL:P3D
CALSCALE:GREGORIAN
BEGIN:VEVENT
DTSTART:20190117T123000Z
DTEND:20190117T143000Z
X-MICROSOFT-CDO-ALLDAYEVENT:FALSE
SUMMARY:20th Annual Legislative Breakfast
DESCRIPTION:On January 17th\, see why it's anything but politics and business as usual. Join our elected officials from State\, County\, and City government as the Anne Arundel County Chamber of Commerce hosts the 20th Annual Legislative Breakfast. (click Pricing Details for additional information)\n\n\n\nSPEAKERS INCLUDE:\n\nMichael Busch - Speaker of the House (invited)\n\nNicholaus Kipke - House Minority Leader (invited)\n\nSteuart Pittman--- County Executive (confirmed)\n\nGavin Buckley - Mayor of Annapolis (confirmed)\n\nPam Beidle - District 32 (confirmed)
X-ALT-DESC;FMTTYPE=text/html:On January 17th\, see why it&#39\;s anything but politics and business as usual. Join our elected officials from State\, County\, and City government as the Anne Arundel County Chamber of Commerce hosts the 20th Annual Legislative Breakfast. (click Pricing Details for additional information)<br />\n<br />\n<strong>SPEAKERS INCLUDE:</strong><br />\nMichael Busch - Speaker of the House (invited)<br />\nNicholaus Kipke - House Minority Leader (invited)<br />\nSteuart Pittman--- County Executive (confirmed)<br />\nGavin Buckley - Mayor of Annapolis (confirmed)<br />\nPam Beidle - District 32 (confirmed)<br />\n<br />\n&nbsp\;
LOCATION:The Crowne Plaza Hotel 173 Jennifer Road Annapolis\, MD 21401
UID:e.2745.1319
SEQUENCE:3
DTSTAMP:20260421T190125Z
URL:https://members.annearundelchamber.org/events/details/20th-annual-legislative-breakfast-1319
END:VEVENT

END:VCALENDAR
